BEGIN:VCALENDAR
VERSION:2.0
PRODID:-//hacksw/handcal//NONSGML v1.0//EN
BEGIN:VEVENT
SUMMARY:Concours veterans 4 parties
UID:62423212-73b2-4871-9460-4b44634af4af
DTSTART:20260325T130000Z
DTEND:20260325T230000Z
LOCATION:Localisation   
CATEGORIES:Sportif
STATUS:
URL;VALUE=URI:https://petanquesylvanaise.sportsregions.fr/evenements/2026/03/25/concours-veterans-4-parties-2423280
END:VEVENT
END:VCALENDAR
